BEGIN:VCALENDAR
VERSION:2.0
PRODID:-//Mesa Sunset - ECPv6.15.20//NONSGML v1.0//EN
CALSCALE:GREGORIAN
METHOD:PUBLISH
X-ORIGINAL-URL:https://mesasunsetaz.com
X-WR-CALDESC:Events for Mesa Sunset
REFRESH-INTERVAL;VALUE=DURATION:PT1H
X-Robots-Tag:noindex
X-PUBLISHED-TTL:PT1H
BEGIN:VTIMEZONE
TZID:America/Phoenix
BEGIN:STANDARD
TZOFFSETFROM:-0700
TZOFFSETTO:-0700
TZNAME:MST
DTSTART:20250101T000000
END:STANDARD
END:VTIMEZONE
BEGIN:VEVENT
DTSTART;TZID=America/Phoenix:20260311T143000
DTEND;TZID=America/Phoenix:20260311T153000
DTSTAMP:20260422T075626
CREATED:20260302T222628Z
LAST-MODIFIED:20260310T225827Z
UID:10002730-1773239400-1773243000@mesasunsetaz.com
SUMMARY:Ask Anything
DESCRIPTION:Sarah Jolicoeur is inviting you to a scheduled Zoom meeting.\nJoin Zoom Meeting\nhttps://us06web.zoom.us/j/81639334265?pwd=B9aUoUQ4vvMgaiAG57ZPpM6QUPRblC.1\nMeeting ID: 816 3933 4265\nPasscode: 084827\n—\nOne tap mobile\n+13052241968\,\,81639334265#\,\,\,\,*084827# US\n+13017158592\,\,81639334265#\,\,\,\,*084827# US (Washington DC)\nJoin instructions\nhttps://us06web.zoom.us/meetings/81639334265/invitations?signature=g_r1IKQgctuOgf7LswReTfAAbEsLEbGmVwN0PJxMua4
URL:https://mesasunsetaz.com/event/ask-anything-13/
LOCATION:https://us06web.zoom.us/j/81639334265?pwd=B9aUoUQ4vvMgaiAG57ZPpM6QUPRblC.1
ORGANIZER;CN="sjconsulting313@gmail.com":MAILTO:sjconsulting313@gmail.com
END:VEVENT
END:VCALENDAR