BEGIN:VCALENDAR
VERSION:2.0
PRODID:-//Mesa Sunset - ECPv6.15.20//NONSGML v1.0//EN
CALSCALE:GREGORIAN
METHOD:PUBLISH
X-WR-CALNAME:Mesa Sunset
X-ORIGINAL-URL:https://mesasunsetaz.com
X-WR-CALDESC:Events for Mesa Sunset
REFRESH-INTERVAL;VALUE=DURATION:PT1H
X-Robots-Tag:noindex
X-PUBLISHED-TTL:PT1H
BEGIN:VTIMEZONE
TZID:America/Phoenix
BEGIN:STANDARD
TZOFFSETFROM:-0700
TZOFFSETTO:-0700
TZNAME:MST
DTSTART:20230101T000000
END:STANDARD
END:VTIMEZONE
BEGIN:VEVENT
DTSTART;TZID=America/Phoenix:20241204T084500
DTEND;TZID=America/Phoenix:20241204T091500
DTSTAMP:20260420T140412
CREATED:20241203T194232Z
LAST-MODIFIED:20241203T194232Z
UID:10002470-1733301900-1733303700@mesasunsetaz.com
SUMMARY:15 or 30 minute meeting
DESCRIPTION:Join link for Google Meet : https://meet.google.com/dyd-xhgf-bcc\nNeed to make changes? \n\nReschedule: https://app.hubspot.com/meetings/drake-baar/15or30?rescheduleId=acdddc16ee758cb16a5c137cd51d32ac&ms=1\nCancel: https://app.hubspot.com/meetings/drake-baar/15or30?cancelId=acdddc16ee758cb16a5c137cd51d32ac&ms=1\n\nJoin with Google Meet: https://meet.google.com/dyd-xhgf-bcc\nLearn more about Meet at: https://support.google.com/a/users/answer/9282720
URL:https://mesasunsetaz.com/event/15-or-30-minute-meeting/
LOCATION:https://meet.google.com/dyd-xhgf-bcc
ORGANIZER;CN="drake.baar@campspot.com":MAILTO:drake.baar@campspot.com
END:VEVENT
END:VCALENDAR